BEGIN:VCALENDAR
VERSION:2.0
PRODID:-//Plone.org//NONSGML plone.app.event//EN
X-WR-TIMEZONE:Europe/Berlin
BEGIN:VEVENT
SUMMARY:Jahrestagung 2015 des Forums KomWoB NRW
DTSTART;TZID=Europe/Berlin;VALUE=DATE-TIME:20150429T093000
DTEND;TZID=Europe/Berlin;VALUE=DATE-TIME:20150429T143000
DTSTAMP;VALUE=DATE-TIME:20260424T231513Z
UID:c005992bebae475884dbe5c2335630e5@client1
ATTENDEE;CN="Mitgliedsstädte des Forum KomWoB, weitere TN nach Rücksprac
 he mit der Koordinierungsstelle.";ROLE=REQ-PARTICIPANT:Mitgliedsstädte de
 s Forum KomWoB, weitere TN nach Rücksprache mit der Koordinierungsstelle.
CREATED;VALUE=DATE-TIME:20150323T125921Z
DESCRIPTION:Dokumentation der Jahrestagung in Düsseldorf. Schwerpunkte: 
 Ältere Eigenheimgebiete\, Analyse der Infrastrukturausstattung von Ortste
 ilen.
LAST-MODIFIED;VALUE=DATE-TIME:20221123T115556Z
LOCATION:Düsseldorf\, NRW.BANK
URL:https://www.wohnungsmarktbeobachtung.de/kommunen/erfahrungsaustausch/j
 ahrestagungen-nrw/jt-2015
END:VEVENT
BEGIN:VTIMEZONE
TZID:Europe/Berlin
X-LIC-LOCATION:Europe/Berlin
BEGIN:DAYLIGHT
DTSTART;VALUE=DATE-TIME:20150329T030000
TZNAME:CEST
TZOFFSETFROM:+0100
TZOFFSETTO:+0200
END:DAYLIGHT
END:VTIMEZONE
END:VCALENDAR
